BEGIN:VCALENDAR
VERSION:2.0
PRODID:icalendar-ruby
CALSCALE:GREGORIAN
METHOD:PUBLISH
BEGIN:VEVENT
DTSTAMP:20260421T114905Z
UID:8-398224@stmattssa.org
DTSTART:20260502T230000Z
DTEND:20260503T013000Z
CLASS:PUBLIC
CREATED:20260420T093939
DESCRIPTION:
LAST-MODIFIED:20260420T093939
LOCATION:In the Gym
SUMMARY:Reel Vibes Movie Night
URL;VALUE=URI:https://www.stmattssa.org/events/reel-vibes-movie-night/2026-
 05-02
ATTACH;FILENAME=May-Movie-night-Announcement.png;FMTTYPE=image/png:https://
 dq5pwpg1q8ru0.cloudfront.net/2026/04/20/14/39/38/137e2423-5e6d-4b6b-b149-b
 d5a1b39e20a/May-Movie-night-Announcement.png
END:VEVENT
END:VCALENDAR
